BEGIN:VCALENDAR
PRODID:brasil.gov.agenda
VERSION:1.0
BEGIN:VEVENT
DTSTART:20211029T160000Z
DTEND:20211029T030000Z
DCREATED:20211029T230315Z
UID:Compromisso-f624845cb21c4b87b9046e02b392c179
SEQUENCE:0
LAST-MODIFIED:20220408T181552Z
SUMMARY:Encontros Seguranca Cibernetica
LOCATION:SEDE CODATA
PRIORITY:3
TRANSP:0
END:VEVENT
END:VCALENDAR
