BEGIN:VCALENDAR
PRODID:brasil.gov.agenda
VERSION:1.0
BEGIN:VEVENT
DTSTART:20211029T170000Z
DTEND:20211029T030000Z
DCREATED:20211029T230349Z
UID:Compromisso-318977f2e2aa42c6817a3062bd2ab613
SEQUENCE:0
LAST-MODIFIED:20220408T181552Z
SUMMARY:Encontros Seguranca Cibernetica
DESCRIPTION:O cuidado em identificar pontos críticos na consolidaçã
 o das estruturas possibilita uma melhor visão global da gestão inova
 dora da qual fazemos parte. Percebemos\, cada vez mais\, que o comprom
 etimento entre as equipes prepara-nos para enfrentar situações atíp
 icas decorrentes dos índices pretendidos. O incentivo ao avanço tecn
 ológico\, assim como a adoção de políticas descentralizadoras talv
 ez venha a ressaltar a relatividade das formas de ação.
LOCATION:SEDE CODATA
PRIORITY:3
TRANSP:0
END:VEVENT
END:VCALENDAR
