BEGIN:VCALENDAR
PRODID:brasil.gov.agenda
VERSION:1.0
BEGIN:VEVENT
DTSTART:20211029T030000Z
DTEND:20211029T030000Z
DCREATED:20211029T234047Z
UID:Compromisso-1dd56f6a1cba497e9ef884eef7a332e5
SEQUENCE:0
LAST-MODIFIED:20220408T181553Z
SUMMARY:Aniversário de Joshua da GEDES
PRIORITY:3
TRANSP:0
END:VEVENT
END:VCALENDAR
