BEGIN:VCALENDAR
PRODID:brasil.gov.agenda
VERSION:1.0
BEGIN:VEVENT
DTSTART:20260224T120000Z
DTEND:20260224T130000Z
DCREATED:20260218T153013Z
UID:Compromisso-77040e17f29c480b8b6566be7ad32a9e
SEQUENCE:0
LAST-MODIFIED:20260218T153013Z
SUMMARY:Reunião do Conselho de Administração
LOCATION:Secretaria Estadual da Administração
PRIORITY:3
TRANSP:0
END:VEVENT
END:VCALENDAR
