BEGIN:VCALENDAR
PRODID:brasil.gov.agenda
VERSION:1.0
BEGIN:VEVENT
DTSTART:20260220T144500Z
DTEND:20260220T154500Z
DCREATED:20260220T115226Z
UID:Compromisso-a5b96ee6725a46998d7a4d059387a4ee
SEQUENCE:0
LAST-MODIFIED:20260220T115226Z
SUMMARY:Reunião com o Governador João Azevêdo
LOCATION:Granja Santana
PRIORITY:3
TRANSP:0
END:VEVENT
END:VCALENDAR
